BEGIN:VCALENDAR
VERSION:2.0
PRODID:-//Heart of the California Sacramento &amp; San Joaquin Delta - ECPv6.15.20//NONSGML v1.0//EN
CALSCALE:GREGORIAN
METHOD:PUBLISH
X-ORIGINAL-URL:https://design.californiadelta.org
X-WR-CALDESC:Events for Heart of the California Sacramento &amp; San Joaquin Delta
REFRESH-INTERVAL;VALUE=DURATION:PT1H
X-Robots-Tag:noindex
X-PUBLISHED-TTL:PT1H
BEGIN:VTIMEZONE
TZID:America/Los_Angeles
BEGIN:DAYLIGHT
TZOFFSETFROM:-0800
TZOFFSETTO:-0700
TZNAME:PDT
DTSTART:20220313T100000
END:DAYLIGHT
BEGIN:STANDARD
TZOFFSETFROM:-0700
TZOFFSETTO:-0800
TZNAME:PST
DTSTART:20221106T090000
END:STANDARD
BEGIN:DAYLIGHT
TZOFFSETFROM:-0800
TZOFFSETTO:-0700
TZNAME:PDT
DTSTART:20230312T100000
END:DAYLIGHT
BEGIN:STANDARD
TZOFFSETFROM:-0700
TZOFFSETTO:-0800
TZNAME:PST
DTSTART:20231105T090000
END:STANDARD
BEGIN:DAYLIGHT
TZOFFSETFROM:-0800
TZOFFSETTO:-0700
TZNAME:PDT
DTSTART:20240310T100000
END:DAYLIGHT
BEGIN:STANDARD
TZOFFSETFROM:-0700
TZOFFSETTO:-0800
TZNAME:PST
DTSTART:20241103T090000
END:STANDARD
END:VTIMEZONE
BEGIN:VEVENT
DTSTART;TZID=America/Los_Angeles:20230715T120000
DTEND;TZID=America/Los_Angeles:20230715T200000
DTSTAMP:20260425T141311
CREATED:20230510T175249Z
LAST-MODIFIED:20230510T212253Z
UID:14254-1689422400-1689451200@design.californiadelta.org
SUMMARY:Rio Rock Music Festival
DESCRIPTION:
URL:https://design.californiadelta.org/event/rio-rock-music-festival/
LOCATION:Rio Rock Music Festival\, Brannan Island State Recreation Area\, Rio Vista\, 94571\, United States
CATEGORIES:2023,July 2023,Music
END:VEVENT
END:VCALENDAR