BEGIN:VCALENDAR
VERSION:2.0
PRODID:-//Heart of the California Sacramento &amp; San Joaquin Delta - ECPv6.15.20//NONSGML v1.0//EN
CALSCALE:GREGORIAN
METHOD:PUBLISH
X-WR-CALNAME:Heart of the California Sacramento &amp; San Joaquin Delta
X-ORIGINAL-URL:https://design.californiadelta.org
X-WR-CALDESC:Events for Heart of the California Sacramento &amp; San Joaquin Delta
REFRESH-INTERVAL;VALUE=DURATION:PT1H
X-Robots-Tag:noindex
X-PUBLISHED-TTL:PT1H
BEGIN:VTIMEZONE
TZID:America/Los_Angeles
BEGIN:DAYLIGHT
TZOFFSETFROM:-0800
TZOFFSETTO:-0700
TZNAME:PDT
DTSTART:20220313T100000
END:DAYLIGHT
BEGIN:STANDARD
TZOFFSETFROM:-0700
TZOFFSETTO:-0800
TZNAME:PST
DTSTART:20221106T090000
END:STANDARD
BEGIN:DAYLIGHT
TZOFFSETFROM:-0800
TZOFFSETTO:-0700
TZNAME:PDT
DTSTART:20230312T100000
END:DAYLIGHT
BEGIN:STANDARD
TZOFFSETFROM:-0700
TZOFFSETTO:-0800
TZNAME:PST
DTSTART:20231105T090000
END:STANDARD
BEGIN:DAYLIGHT
TZOFFSETFROM:-0800
TZOFFSETTO:-0700
TZNAME:PDT
DTSTART:20240310T100000
END:DAYLIGHT
BEGIN:STANDARD
TZOFFSETFROM:-0700
TZOFFSETTO:-0800
TZNAME:PST
DTSTART:20241103T090000
END:STANDARD
END:VTIMEZONE
BEGIN:VEVENT
DTSTART;TZID=America/Los_Angeles:20231108T180000
DTEND;TZID=America/Los_Angeles:20231108T193000
DTSTAMP:20260425T122314
CREATED:20230921T205423Z
LAST-MODIFIED:20230921T205432Z
UID:15252-1699466400-1699471800@design.californiadelta.org
SUMMARY:Delta Chambers Mixer
DESCRIPTION:Delta Chambers Mixer\, 6-7:30 p.m. San Joaquin Yacht Club on Bethel Island. Come attend and meet other local Delta Business owners while enjoying the hospitality the SJYC. If you have questions on this event\, how your business can host a mixer or to become a member of the Delta Chambers\, visit www.californiadelta.com or call 916–777–4041.
URL:https://design.californiadelta.org/event/delta-chambers-mixer-2/
CATEGORIES:November 2023
ORGANIZER;CN="California Delta Chambers & Visitor's Bureau":MAILTO:webmaster@californiadelta.org
END:VEVENT
END:VCALENDAR